BEGIN:VCALENDAR
VERSION:2.0
PRODID:-//Art Ngalam - ECPv6.15.20//NONSGML v1.0//EN
CALSCALE:GREGORIAN
METHOD:PUBLISH
X-ORIGINAL-URL:https://artngalam.id
X-WR-CALDESC:Events for Art Ngalam
REFRESH-INTERVAL;VALUE=DURATION:PT1H
X-Robots-Tag:noindex
X-PUBLISHED-TTL:PT1H
BEGIN:VTIMEZONE
TZID:UTC
BEGIN:STANDARD
TZOFFSETFROM:+0000
TZOFFSETTO:+0000
TZNAME:UTC
DTSTART:20250101T000000
END:STANDARD
END:VTIMEZONE
BEGIN:VEVENT
DTSTART;VALUE=DATE:20260228
DTEND;VALUE=DATE:20260411
DTSTAMP:20260421T144207
CREATED:20260313T012431Z
LAST-MODIFIED:20260313T012431Z
UID:1196-1772236800-1775865599@artngalam.id
SUMMARY:LOMBA JINGLE GEOPARK BOJONEGORO
DESCRIPTION:Panggilan buat kamu yang jago bikin nada! 🎸🎤\n​Dinas Kebudayaan dan Pariwisata Kabupaten Bojonegoro menantang kamu untuk ikut Lomba Jingle Geopark Bojonegoro! Ini saatnya tunjukkan bakat bermusikmu dan ikut mempromosikan keindahan Geopark kita lewat karya musik yang ikonik. \n​💰 Hadiah Utama: Rp 5.500.000\n⚖️ Dewan Juri: Rere Reza (Drummer Grassrock\, Additional Dewa 19\, Ada Band\, dll) \n​Catat tanggal pentingnya:\n🗓️ Periode Kompetisi: 28 Februari 2026 – 10 April 2026 \n​Yuk\, jangan sampai ketinggalan! Scan QR Code di poster atau kunjungi link s.id/JingleGeoparkBojonegoro untuk pendaftaran dan petunjuk teknis (juknis). \n@disbudparbojonegoro @pemkabbojonegoro @jatimberdaya @artngalam.id\n​ \nInfo lebih lanjut hubungi:\n📞 Amran: 0855-8831-730\n📞 Erwin: 0821-4888-1313\n​#GeoparkBojonegoro #LombaJingle #medhayohbojonegoro #bahagiamakmurmembanggakan #jatimberdaya #artngalam
URL:https://artngalam.id/event/lomba-jingle-geopark-bojonegoro/
LOCATION:Geopark Bojonegoro\, Jl. Panglima Sudirman No.24\, Kepatihan\, Kec. Bojonegoro\, Kabupaten Bojonegoro\, Jawa Timur 62111\, Bojonegoro\, Jawa Timur\, 62111\, Indonesia
CATEGORIES:Event @artngalam.id,Informasi,Jawa Timur,Kompetisi
ATTACH;FMTTYPE=image/jpeg:https://artngalam.id/wp-content/uploads/2026/03/jingle-geopark-bojonegoro-event-artngalamid_0005.jpg
END:VEVENT
END:VCALENDAR