BEGIN:VCALENDAR
VERSION:2.0
PRODID:-//Art Ngalam - ECPv6.15.20//NONSGML v1.0//EN
CALSCALE:GREGORIAN
METHOD:PUBLISH
X-WR-CALNAME:Art Ngalam
X-ORIGINAL-URL:https://artngalam.id
X-WR-CALDESC:Events for Art Ngalam
REFRESH-INTERVAL;VALUE=DURATION:PT1H
X-Robots-Tag:noindex
X-PUBLISHED-TTL:PT1H
BEGIN:VTIMEZONE
TZID:UTC
BEGIN:STANDARD
TZOFFSETFROM:+0000
TZOFFSETTO:+0000
TZNAME:UTC
DTSTART:20240101T000000
END:STANDARD
END:VTIMEZONE
BEGIN:VEVENT
DTSTART;TZID=UTC:20260307T130000
DTEND;TZID=UTC:20260315T230000
DTSTAMP:20260421T173942
CREATED:20260307T182729Z
LAST-MODIFIED:20260313T011125Z
UID:1084-1772888400-1773615600@artngalam.id
SUMMARY:Jakcloth Lebaran Fair 2026-Malang
DESCRIPTION:JAKCLOTH LEBARAN FAIR 2026-MALANG \nEvent clothing & ngabuburit paling ditunggu akhirnya balik hadir \nMulai dari hunting outfit lebaran\, bukber bareng temen\, sampe nonton hiburan seru semua ada di satu tempat! \nSpecial Performances:\nSukses Lancar Rejeki • Aldi Taher • Fakedopp • Nganchuk Crew • Dhyo HawAdd New Event\ndan masih banyak lagi! \n70 Clothing Brands\, 30 Kuliner Bukber Fest \nBoomi Carnaval\, Kota Malang\n7-15 Mar 2026\, 13:00 – 23:00 WIB \n💸 HTM: Rp25.000\nTiket: Loket.com\nInfo Tenant : +62 812-8003-586\nInfo Kuliner : +62 812-3456-2900 \n@jakcloth \n@jatimberdaya @artngalam.id \nAjak bestie\, pasangan\, sampe satu tongkrongan!\nBiar ngabuburit gak cuma scroll HP 😎 \nJakCloth tempatnya brand lokal naik kelas & tempat nongkrongnya anak skena!
URL:https://artngalam.id/event/jakcloth-lebaran-fair-2026-malang/
LOCATION:Boomi Carnaval\, Kota Malang\, Jl. Ikan Tombro No.27\, Mojolangu\, Kec. Lowokwaru\, Kota Malang\, Jawa Timur 65142\, Kota Malang\, Jawa Timur\, 65142\, Indonesia
CATEGORIES:Festival,Kota Malang
ATTACH;FMTTYPE=image/jpeg:https://artngalam.id/wp-content/uploads/2026/03/SAVE_20260309_225049.jpg
END:VEVENT
BEGIN:VEVENT
DTSTART;TZID=UTC:20250531T153000
DTEND;TZID=UTC:20250602T223000
DTSTAMP:20260421T173942
CREATED:20250514T162121Z
LAST-MODIFIED:20250526T042050Z
UID:436-1748705400-1748903400@artngalam.id
SUMMARY:Jaran Kepang
DESCRIPTION:Seni jaranan atau jaran kepang diangkat dari dongeng rakyat tradisional Kediri tepatnya pada Pemerintahan Prabu Amiseno yaitu Kerajaan Ngurawan\, salah satu kerajaan yang terletak di sebelah timur Sungai Brantas Kediri. Konon sang Prabu berputera seorang putri sangat cantik rupawan tiada banding\, tidak dapat dilukiskan dengan kata-kata\, dia bernama’Dyah Ayu Songgolangit’. Tidak mengherankan kecantikan Songgolangit tersohor di seantero jagad sehingga banyak raja dari luar daerah Kediri yang ingin mempersuntingnya.
URL:https://artngalam.id/event/jaran-kepang/
LOCATION:Rampal\, Indonesia
ATTACH;FMTTYPE=image/png:https://artngalam.id/wp-content/uploads/2025/05/Screenshot-2025-05-15-200536.png
END:VEVENT
BEGIN:VEVENT
DTSTART;TZID=UTC:20250530T153000
DTEND;TZID=UTC:20250531T220000
DTSTAMP:20260421T173942
CREATED:20250515T131112Z
LAST-MODIFIED:20250903T003009Z
UID:460-1748619000-1748728800@artngalam.id
SUMMARY:Kesenian Bantengan Nusantara
DESCRIPTION:Seni Tradisional Bantengan adalah sebuah seni pertunjukan budaya tradisi yang menggabungkan unsur sendra tari\, olah kanuragan\, musik\, dan syair/mantra yang sangat kental dengan nuansa magis. Pelaku Bantengan yakin bahwa permainannya akan semakin menarik apabila telah masuk tahap “trans” yaitu tahapan pemain pemegang kepala Bantengan menjadi kesurupan arwah leluhur Banteng (Dhanyangan).
URL:https://artngalam.id/event/kesenian-bantengan-nusantara/
LOCATION:Kanjuruhan\, Jl. Kanjuruhan Kab Malang\, Kabupaten Malang\, Indonesia
ATTACH;FMTTYPE=image/png:https://artngalam.id/wp-content/uploads/2025/05/Screenshot-2025-05-15-200502.png
END:VEVENT
END:VCALENDAR