BEGIN:VCALENDAR
VERSION:2.0
PRODID:-//Art Ngalam - ECPv6.15.20//NONSGML v1.0//EN
CALSCALE:GREGORIAN
METHOD:PUBLISH
X-WR-CALNAME:Art Ngalam
X-ORIGINAL-URL:https://artngalam.id
X-WR-CALDESC:Events for Art Ngalam
REFRESH-INTERVAL;VALUE=DURATION:PT1H
X-Robots-Tag:noindex
X-PUBLISHED-TTL:PT1H
BEGIN:VTIMEZONE
TZID:UTC
BEGIN:STANDARD
TZOFFSETFROM:+0000
TZOFFSETTO:+0000
TZNAME:UTC
DTSTART:20250101T000000
END:STANDARD
END:VTIMEZONE
BEGIN:VEVENT
DTSTART;VALUE=DATE:20260410
DTEND;VALUE=DATE:20260413
DTSTAMP:20260422T090007
CREATED:20260315T013324Z
LAST-MODIFIED:20260315T013324Z
UID:1277-1775779200-1776038399@artngalam.id
SUMMARY:ART EXHIBITION LILIR LINDUR 2026
DESCRIPTION:Sudah saatnya kita terjun ke dunia yang penuh dengan fantasi. Lupakan sejenak masalah dan kerisauanmu\, mari menyenangkan hati dengan masuk ke dalam dunia mimpi✨ \nDi pameran ini\, kita ngajak kamu untuk beristirahat sebentar\, mengambil nafas sejenak\, dan menikmati waktu yang ada. Terkadang istirahat itu penting untuk kamu bisa mengambil step selanjutnya☁️ \nAyo datang dan nikmati karya-karya yang akan membawamu ke dalam dunia yang belum pernah kamu saksikan sebelumnya! \n📍Lokasi: Lantai 3 MCC (Malang Creative Center)\n📅Tanggal: 10-12 April 2026 \nJangan lupa datang yaa\, karya-karya unik nan indah menunggumu🌟🌙 \nPantau terus IG kami ya\, jangan sampai kelewatan! @sanggarminat\n@lilirlindur \nMedia Partner @jatimberdaya @hellomalang @artngalam.id \n#ukmsanggarminat #pamerandiklat33 #samin #poster #artngalam.id
URL:https://artngalam.id/event/art-exhibition-lilir-lindur-2026/
LOCATION:Malang Creative Center\, Jl. Ahmad Yani No. 53\, Blimbing\, Kec. Blimbing\, Kota Malang\, Jawa Timur\, Kota Malang\, Jawa Timur\, 65118\, Indonesia
CATEGORIES:ARTNGALAM.ID,Event Kampus,Exhibition,Kota Malang,Workshop
ATTACH;FMTTYPE=image/jpeg:https://artngalam.id/wp-content/uploads/2026/03/Lir-Lindur_-artngalam_0007.jpg
END:VEVENT
BEGIN:VEVENT
DTSTART;VALUE=DATE:20260420
DTEND;VALUE=DATE:20260421
DTSTAMP:20260422T090007
CREATED:20260417T133358Z
LAST-MODIFIED:20260417T174557Z
UID:1371-1776643200-1776729599@artngalam.id
SUMMARY:TALKSHOW NASIONAL
DESCRIPTION:ARE YOU READY? 🌏✨\nLet’s Level Up Your Tourism Insight! 🚀 \nMasih bingung tentang peluang karir di dunia pariwisata? Atau penasaran gimana strategi bikin pariwisata Malang bisa go global? 🤔 \nYuk ikut Pariwisata Insight Talk 2026 dan dapatkan insight langsung dari para praktisi dan pemerintah di bidang pariwisata! \n🌟 Talkshow Nasional : Strategi Cerdas Membangun Ekonomi Pariwisata Berdaya Saing \n📅 Senin\, 20 April 2026\n🕒 08.00 –  Selesai\n📍FEB\, Aula D10\, Lantai 4 Universitas Negeri Malang\n🎟️ HTM 15RB \nSaatnya upgrade wawasan\, perluas relasi\, dan siap jadi bagian dari generasi pariwisata yang berdaya saing global! 🌍✨ \nDaftar di sini:\n🔗 (Link pendaftaran) bit.ly/4tJKrO5 \nNarahubung:\n📞 Kartika (082246800812) \nFor More Information 📩\nInstagram: himapar_um\nTikTok: himapar_um \n#PariwisataUM\n#HimaparUM
URL:https://artngalam.id/event/talkshow-nasional/
LOCATION:AULA D10 FAKULTAS EKONOMI & BISNIS\, UNIVERSITAS NEGERI MALANG\, AULA D10-1 FEB UM\, Kota Malang\, JAWA TIMUR\, Indonesia
CATEGORIES:Event Kampus,Kota Malang
ATTACH;FMTTYPE=image/jpeg:https://artngalam.id/wp-content/uploads/2026/04/talkshow-nasional-pariwisata_artngalam_.jpg
END:VEVENT
BEGIN:VEVENT
DTSTART;VALUE=DATE:20260421
DTEND;VALUE=DATE:20260424
DTSTAMP:20260422T090007
CREATED:20260417T192642Z
LAST-MODIFIED:20260417T192642Z
UID:1396-1776729600-1776988799@artngalam.id
SUMMARY:
DESCRIPTION:Festival Teater Mahasiswa Nasional – FESTA MASIO XII MALANG\nDihadiri 10 Komunitas Teater dari Seluruh Indonesia \nSAVE THE DATE: \n📍 Gedung Sasana Krida UM\n📅 21-23 April 2026\n🎟️ Tiket tersedia On The Spot (Rp 15.000/show) \nJangan lewatkan menyaksikan pertunjukan teater terbaik di Feta Masion XII 2026. \n☎️CP: Wilnuy (0812-1612-5612)\n@festamasio12malang
URL:https://artngalam.id/event/1396/
LOCATION:Sasana Krida UM\, Universitas Negeri Malang\, Jl. Veteran\, Sumbersari\, Kec. Lowokwaru\, Kota Malang\, Jawa Timur 65144\, Kota Malang\, Jawa Timur\, Indonesia
CATEGORIES:Event Kampus,Festival,Indonesia,Kota Malang
ATTACH;FMTTYPE=image/jpeg:https://artngalam.id/wp-content/uploads/2026/04/festa-masion_artngalam_.jpg
END:VEVENT
BEGIN:VEVENT
DTSTART;VALUE=DATE:20260424
DTEND;VALUE=DATE:20260425
DTSTAMP:20260422T090007
CREATED:20260417T183840Z
LAST-MODIFIED:20260417T183840Z
UID:1379-1776988800-1777075199@artngalam.id
SUMMARY:MALANG KEMBALI HIP HOP
DESCRIPTION:MALANG KEMBALI HIP HOP 2026 \nKota Malang bersiap kembali ke titik didih kreativitasnya lewat gelaran MALANG KEMBALI HIP HOP 2026. Mengusung semangat “Satu kota\, satu frekuensi\,” ajang ini bukan sekadar panggung musik biasa\, melainkan perayaan besar bagi subkultur yang terus tumbuh dan menolak mati di Bumi Arema.\nSiap mengguncang panggung dengan rima dan flow yang tajam. Nama-nama besar seperti @nganchukcrew x @kingabdi_jajanmercon @bendotraharjo @nwm_official @noisebrain_\n@panteranegramlg @dogdatown342 @virgafrana dan banyak lagi yang akan berkumpul dan bersuka cita bersama \nDidukung energi DJ\, B-Boy\, graffiti\, low riders\, hingga bazar UMKM yang menghidupkan suasana.\nJumat\, 24 April 2025 di Lapangan Museum Brawijaya \n  \nDatang bukan sekadar menonton 🔥🔥🔥\nKarena ini momentum untuk merasakan\, terlibat\, dan menghidupkan kembali denyut hip hop di Malang\, maka dari itu adilah bagian dari sejarahnya. 🌏🌐🎤😎
URL:https://artngalam.id/event/malang-kembali-hip-hop/
LOCATION:Lapangan Museum Brawijaya\, Ijen St No.25A\, Gading Kasri\, Klojen\, Malang City\, East Java 65115\, Kota Malang\, Jawa Timur\, Indonesia
CATEGORIES:Kota Malang,Malang Raya
ATTACH;FMTTYPE=image/jpeg:https://artngalam.id/wp-content/uploads/2026/04/malang-kembali-hiphop_artngalam_.jpg
END:VEVENT
BEGIN:VEVENT
DTSTART;VALUE=DATE:20260502
DTEND;VALUE=DATE:20260503
DTSTAMP:20260422T090007
CREATED:20260404T010248Z
LAST-MODIFIED:20260417T182030Z
UID:1316-1777680000-1777766399@artngalam.id
SUMMARY:Malang Mods Mayday (M3D) Pesta Kelas Pekerja 2026
DESCRIPTION:Malang Mods Mayday (M3D) Pesta Kelas Pekerja 2026 \nKerja keras tanpa pesta sepertinya akan sangat kurang meriah dalam menjalani kehidupan ini. \nKami mengajak kalian semua untuk gabung dan bersenang-senang di acara puncak: \n🥁 “PESTA KELAS PEKERJA” – MALANG MODS MAYDAY 2026 🥁 \nCatat tanggal mainnya\, jangan sampai lolos!\n🗓️ 02 – MEI – 2026 \nSiapkan diri kalian untuk pesta kali ini\, karena panggung akan MENAMPILKAN lineup gokil: \n🎸 BEGUNDAL LOWOKWARU\n🎷 UNCLE DJINK FEAT FAHMI AZIZ\n🏁 SENTIMENTAL MOODS\n🎵 THE GLAD\n🍻 OM BAPERSOB\n🎤 NGANCHUK CREW\n🇯🇲 SAMA RASTA (Reggae Malang)\n🚀 SUPERCHIPS\n🧥 MOBSTER\n✊ THE RECKLESS \nPanaskan mesin Vespa kalian\, siapkan outfit terbaik\, dan mari kita berdansa bersama para pejuang rupiah lainnya! 🛵💨 \nInfo lebih lanjut mengenai tiket\, lokasi\, dan rundown akan segera dirilis satu persatu. Pantau terus akun kami! \nPembelian Presale Kelas Pekerja untuk 2 Mei 2026 di:\n1. Kedai SUmber Barockah (085158000175)\n2. Dimbo (0895809083500)\n3. Tomo Stanley (087766841469)\n4. Knalpot Vespa Malang (089528516338)\n5. Slonong BOB (-89680741063)\n6. Ranggamone (08983937548)
URL:https://artngalam.id/event/malang-mods-mayday-m3d-pesta-kelas-pekerja-2026/
LOCATION:Kota Malang\, Kota Malang\, Jawa Timur\, Indonesia
CATEGORIES:Festival,Kota Malang
ATTACH;FMTTYPE=image/jpeg:https://artngalam.id/wp-content/uploads/2026/04/Pesta-Kelas-Pekerja-2026_artngalam_0006.jpg
END:VEVENT
END:VCALENDAR