BEGIN:VCALENDAR
VERSION:2.0
PRODID:-//Art Ngalam - ECPv6.15.20//NONSGML v1.0//EN
CALSCALE:GREGORIAN
METHOD:PUBLISH
X-WR-CALNAME:Art Ngalam
X-ORIGINAL-URL:https://artngalam.id
X-WR-CALDESC:Events for Art Ngalam
REFRESH-INTERVAL;VALUE=DURATION:PT1H
X-Robots-Tag:noindex
X-PUBLISHED-TTL:PT1H
BEGIN:VTIMEZONE
TZID:UTC
BEGIN:STANDARD
TZOFFSETFROM:+0000
TZOFFSETTO:+0000
TZNAME:UTC
DTSTART:20250101T000000
END:STANDARD
END:VTIMEZONE
BEGIN:VEVENT
DTSTART;VALUE=DATE:20260301
DTEND;VALUE=DATE:20260902
DTSTAMP:20260422T113109
CREATED:20260305T052031Z
LAST-MODIFIED:20260305T052031Z
UID:1055-1772323200-1788307199@artngalam.id
SUMMARY:DIKASIH INFO ARTNGALAM.ID
DESCRIPTION:2 Langkah Saja untuk EVENTMU LANCAR SUKSES \nDiskon hingga 50% (khusus untuk Event Malang Raya / Jawa Timur)\nDapatkan Jangkauan Luas untuk semua Eventmu mulai dari Festival\, Seni/Budaya\, Musik\, Desa\, Kampung Tematik\, Parade\, Workshop\, Konser\, Pameran\, Sekolah\, Kampus \n 
URL:https://artngalam.id/event/dikasih-info-artngalam-id/
LOCATION:Jawa Timur
CATEGORIES:Informasi
ATTACH;FMTTYPE=image/jpeg:https://artngalam.id/wp-content/uploads/2026/03/event-artngalamid_0001.jpg
ORGANIZER;CN="artngalam.id":MAILTO:artngalam.official@gmail.com
END:VEVENT
BEGIN:VEVENT
DTSTART;VALUE=DATE:20260310
DTEND;VALUE=DATE:20260902
DTSTAMP:20260422T113109
CREATED:20260310T035134Z
LAST-MODIFIED:20260314T203338Z
UID:1144-1773100800-1788307199@artngalam.id
SUMMARY:MAU BIKIN EVENT?
DESCRIPTION:BIKIN EVENT LOKAL RASA NASIONAL-DISKON 50%! 🚀 \nPunya acara keren tapi takut sepi penonton? Dari panggung konser megah sampai festival desa \nyang penuh makna\, semua layak mendapatkan panggung yang luas! \nKhusus untuk Event Lokal\, kami berikan akses publikasi premium dengan harga miring: \n✅ Diskon hingga 50% (Hemat budget\, maksimal hasil!) \n✅ Berlaku sampai September 2026 \n✅ Jangkauan Luas & Tertarget \nMulai dari: \n\n\n🎸 Konser & Musik \n\n\n🎨 Seni\, Budaya & Parade \n\n\n🏫 Event Sekolah & Kampus \n\n\n🏡 Kampung Tematik & Workshop \n\n\n  \n \n  \nMALANG COLLABORATION\, TEMPATNYA ADA DI ARTNGALAM.ID  \n“Budget mepet tapi mau event rame? Chill\, ada diskon 50% sampai September 2026! \n💸 Kapan lagi dapet jangkauan luas harga mahasiswa/lokal? Sikat sekarang!” \nWA: 0889-8949-1845 / 0823-3558-2932 \n  \n“Sikat Diskonnya! ⚡️” \n#FestivalBudaya #KonserMusikIndonesia #EventKampus #InfoPameran #WorkshopKreatif #KampungTematik #EventSekolah #EventSekolahan #ParadeBudaya #Festival #DigitalMarketing #CreativeAgency #Advertising #Workshop #KelasDigital
URL:https://artngalam.id/event/mau-bikin-event/
LOCATION:Jawa Timur
CATEGORIES:ARTNGALAM.ID,Event Kampus,Event Sekolahan,Informasi,Jawa Timur,Kabupaten Malang,Kota Batu,Kota Malang,Malang Raya
ATTACH;FMTTYPE=image/jpeg:https://artngalam.id/wp-content/uploads/2026/03/event-psd-master-promo-002-1.jpg
END:VEVENT
END:VCALENDAR