BEGIN:VCALENDAR
VERSION:2.0
PRODID:-//Art Ngalam - ECPv6.15.20//NONSGML v1.0//EN
CALSCALE:GREGORIAN
METHOD:PUBLISH
X-ORIGINAL-URL:https://artngalam.id
X-WR-CALDESC:Events for Art Ngalam
REFRESH-INTERVAL;VALUE=DURATION:PT1H
X-Robots-Tag:noindex
X-PUBLISHED-TTL:PT1H
BEGIN:VTIMEZONE
TZID:UTC
BEGIN:STANDARD
TZOFFSETFROM:+0000
TZOFFSETTO:+0000
TZNAME:UTC
DTSTART:20250101T000000
END:STANDARD
END:VTIMEZONE
BEGIN:VEVENT
DTSTART;VALUE=DATE:20260325
DTEND;VALUE=DATE:20260412
DTSTAMP:20260422T073827
CREATED:20260307T192345Z
LAST-MODIFIED:20260309T165402Z
UID:1102-1774396800-1775951999@artngalam.id
SUMMARY:Youth Academic and Motivational Challenge 2026
DESCRIPTION:Panggung Nasional untuk Siswa/i SMA/SMK/MA Sederajat se-Indonesia \nKategori Lomba \n– Motivation Speech\n– Karya Tulis Ilmiah \nTotal Hadiah Jutaan Rupiah\, Beasiswa dari STAI Mutiara Bangsa\, Piala Nasional & E-Sertifikat\nPengumpulan Karya 25 Maret 2026\, Grand Final 11 April 2026 \nContact Person : 085159778547\npmb.mutiarabangsa.ac.id\nstaimutiarabangsa
URL:https://artngalam.id/event/youth-academic-and-motivational-challenge-2026/
LOCATION:STAI Mutiara Bangsa\, Komp. Pemda\, Jl. Yudistira No.17\, Kota Bekasi\, Indonesia
CATEGORIES:Event Kampus,Event Sekolahan,Jawa Barat
ATTACH;FMTTYPE=image/jpeg:https://artngalam.id/wp-content/uploads/2026/03/event-artngalamid_0004.jpg
END:VEVENT
END:VCALENDAR